BEGIN:VCALENDAR
VERSION:2.0
PRODID:-//ChurchDev//Events//EN
CALSCALE:GREGORIAN
METHOD:PUBLISH
BEGIN:VEVENT
UID:2592-20160112@www.quincyfirstsouthern.org
SUMMARY:Deacon Meeting
DTSTART:20160113T000000Z
DTEND:20160113T010000Z
DESCRIPTION:https://www.quincyfirstsouthern.org/events/deacon-meeting/
URL:https://www.quincyfirstsouthern.org/events/deacon-meeting/
DTSTAMP:20260419T205821Z
END:VEVENT
END:VCALENDAR
